BEGIN:VCALENDAR
VERSION:2.0
METHOD:PUBLISH
PRODID:-//Accessible Web Design//My Calendar//http://www.joedolson.com//v//EN';
BEGIN:VEVENT
UID:140-136
LOCATION:Kolosseum Lübeck
SUMMARY:Familienkonzert: König Karotte (Le Roi Carotte)
DTSTAMP:20250501T150000
ORGANIZER;CN=superhost:MAILTO:susanne.philipp@stud.th-luebeck.de
DTSTART:20250501T150000
DTEND:20250501T160000
CATEGORIES:KaPhil! Konzerte
URL;VALUE=URI:https://kaphil.de/mc-events/familienkonzert-koenig-karotte-le-roi-carotte/?mc_id=140
DESCRIPTION:König Karotte ist keine gewöhnliche Mohrrübe – sondern eine verrückte Wurzel mit großem Ego und noch größeren Plänen. In seiner kunterbunten Fantasiewelt versucht er, den Gemüsegarten nach seinen eigenen Regeln zu beherrschen. Doch die anderen Pflanzen lassen sich nicht so leicht herumkommandieren – und das führt zu allerlei skurrilen und witzigen Auseinandersetzungen.
END:VEVENT
END:VCALENDAR