BEGIN:VCALENDAR
VERSION:2.0
METHOD:PUBLISH
PRODID:-//Accessible Web Design//My Calendar//http://www.joedolson.com//v//EN';
BEGIN:VEVENT
UID:67-64
LOCATION:
SUMMARY:Mahlers 1. Sinfonie in D-Dur entdecken
DTSTAMP:20211116T200000
ORGANIZER;CN=superhost:MAILTO:susanne.philipp@stud.th-luebeck.de
DTSTART:20211116T200000
DTEND:20211116T210000
CATEGORIES:KaPhil! Konzerte, Vergangene Konzerte
URL;VALUE=URI:https://kaphil.de/mc-events/mahlers-1-sinfonie-in-d-dur-entdecken/?mc_id=67
DESCRIPTION:Mahlers 1. Sinfonie in D-Dur entdecken - Werkstattkonzert mit vorausgehender öffentlicher Probe (18:00 Uhr)
END:VEVENT
END:VCALENDAR