BEGIN:VCALENDAR
VERSION:2.0
METHOD:PUBLISH
PRODID:-//Accessible Web Design//My Calendar//http://www.joedolson.com//v//EN';
BEGIN:VEVENT
UID:10-7
LOCATION:Kolosseum Lübeck
SUMMARY:Die kleine Meerjungfrau - Familienneujahrskonzert
DTSTAMP:20230122T160000
ORGANIZER;CN=superhost:MAILTO:susanne.philipp@stud.th-luebeck.de
DTSTART:20230122T160000
DTEND:20230122T170000
CATEGORIES:KaPhil! Konzerte, Vergangene Konzerte
URL;VALUE=URI:https://kaphil.de/mc-events/die-kleine-meerjungfrau-familienneujahrskonzert-2/?mc_id=10
DESCRIPTION:Die kleine Meerjungfrau ist die jüngste und schönste Tochter des Meerkönigs. Zu gern würde sie eine unsterbliche Seele erlangen, dafür muss sich jedoch ein Mensch in sie verlieben. Um ihren Traumprinz zu erobern, muss sie einen hohen Preis bezahlen, doch werden die beiden am Ende auch wirklich zueinander finden?
END:VEVENT
END:VCALENDAR