BEGIN:VCALENDAR
VERSION:2.0
METHOD:PUBLISH
PRODID:-//Accessible Web Design//My Calendar//http://www.joedolson.com//v//EN';
BEGIN:VEVENT
UID:101-98
LOCATION:Kulturwerft Gollan
SUMMARY:Schostakowitsch 5 entdecken  Workshop-Abschlusskonzert mit der Kammerphilharmonie Lübeck (KaPhiL!)
DTSTAMP:20230507T180000
ORGANIZER;CN=Alf Bauer:MAILTO:kontakt@kaphil.de
DTSTART:20230507T180000
DTEND:20230507T190000
CATEGORIES:KaPhil! Konzerte, Vergangene Konzerte
URL;VALUE=URI:https://kaphil.de/mc-events/schostakowitsch-5-entdecken-workshop-abschlusskonzert-mit-der-kammerphilharmonie-luebeck-kaphil/?mc_id=101
DESCRIPTION:Nach dem äußerst erfolgreichen ersten Projekt im November 2021, lädt die Kammerphilharmonie Lübeck (KaPhiL!) erneut fortgeschrittene Amateurmusiker:innen dazu ein, ein großes sinfonisches Werk an der Seite der Profis spielend zu erleben und zu entdecken. Dabei geht es in erster Linie um die Freude am gemeinsamen Musizieren, den Austausch untereinander und die Möglichkeit, das Werk in einer großen Besetzung erklingen zu lassen. 
END:VEVENT
END:VCALENDAR