BEGIN:VCALENDAR
VERSION:2.0
METHOD:PUBLISH
PRODID:-//Accessible Web Design//My Calendar//http://www.joedolson.com//v//EN';
BEGIN:VEVENT
UID:4-4
LOCATION:Kulturwerft Gollan
SUMMARY:"Beethoven 3"
DTSTAMP:20221102T110000
ORGANIZER;CN=superhost:MAILTO:susanne.philipp@stud.th-luebeck.de
DTSTART:20221102T110000
DTEND:20221102T120000
CATEGORIES:KaPhil! Konzerte, Vergangene Konzerte
URL;VALUE=URI:https://kaphil.de/mc-events/beethoven-3/?mc_id=4
DESCRIPTION:Tanzstück von Ulla Benninghoven zur 3. Sinfonie von Ludwig van Beethoven.Ein Musik- und Tanzereignis der Extraklasse in der Gollan Kulturwerft.
END:VEVENT
END:VCALENDAR