BEGIN:VCALENDAR
VERSION:2.0
METHOD:PUBLISH
PRODID:-//Accessible Web Design//My Calendar//http://www.joedolson.com//v//EN';
BEGIN:VEVENT
UID:71-68
LOCATION:Kulturwerft Gollan
SUMMARY:Ein interaktives Konzertformat mit Live-Painting
DTSTAMP:20220504T110000
ORGANIZER;CN=superhost:MAILTO:susanne.philipp@stud.th-luebeck.de
DTSTART:20220504T110000
DTEND:20220504T120000
CATEGORIES:KaPhil! Konzerte, Vergangene Konzerte
URL;VALUE=URI:https://kaphil.de/mc-events/ein-interaktives-konzertformat-mit-live-painting-2/?mc_id=71
DESCRIPTION:SoundColours in der Kulturwerft Gollan
END:VEVENT
END:VCALENDAR