BEGIN:VCALENDAR
VERSION:2.0
METHOD:PUBLISH
PRODID:-//Accessible Web Design//My Calendar//http://www.joedolson.com//v//EN';
BEGIN:VEVENT
UID:97-94
LOCATION:Kulturwerft Gollan
SUMMARY:Beethoven 3
DTSTAMP:20221107T170000
ORGANIZER;CN=superhost:MAILTO:susanne.philipp@stud.th-luebeck.de
DTSTART:20221107T170000
DTEND:20221107T180000
CATEGORIES:KaPhil! Konzerte, Vergangene Konzerte
URL;VALUE=URI:https://kaphil.de/mc-events/beethoven-3-6/?mc_id=97
DESCRIPTION:
END:VEVENT
END:VCALENDAR